BEGIN:VCALENDAR
VERSION:2.0
PRODID:-//BizStarts - ECPv6.14.2//NONSGML v1.0//EN
CALSCALE:GREGORIAN
METHOD:PUBLISH
X-WR-CALNAME:BizStarts
X-ORIGINAL-URL:https://bizstarts.com
X-WR-CALDESC:Events for BizStarts
REFRESH-INTERVAL;VALUE=DURATION:PT1H
X-Robots-Tag:noindex
X-PUBLISHED-TTL:PT1H
BEGIN:VTIMEZONE
TZID:America/Chicago
BEGIN:DAYLIGHT
TZOFFSETFROM:-0600
TZOFFSETTO:-0500
TZNAME:CDT
DTSTART:20230312T080000
END:DAYLIGHT
BEGIN:STANDARD
TZOFFSETFROM:-0500
TZOFFSETTO:-0600
TZNAME:CST
DTSTART:20231105T070000
END:STANDARD
END:VTIMEZONE
BEGIN:VEVENT
DTSTART;TZID=America/Chicago:20230211T083000
DTEND;TZID=America/Chicago:20230318T123000
DTSTAMP:20260419T231924
CREATED:20230106T211902Z
LAST-MODIFIED:20230106T211902Z
UID:7756-1676104200-1679142600@bizstarts.com
SUMMARY:Institute 5
DESCRIPTION:
URL:https://bizstarts.com/event-local/institute-5/
LOCATION:HEAR Wisconsin\, 10243 W National Ave\, West Allis\, WI\, 53227\, United States
END:VEVENT
BEGIN:VEVENT
DTSTART;TZID=America/Chicago:20230325T090000
DTEND;TZID=America/Chicago:20230325T120000
DTSTAMP:20260419T231924
CREATED:20230222T213746Z
LAST-MODIFIED:20230222T215816Z
UID:7923-1679734800-1679745600@bizstarts.com
SUMMARY:Get clear on your tax obligations
DESCRIPTION:Taught by Thaime Nanez exclusively in Spanish\, this workshop will assist entrepreneurs in determining their state and federal tax obligations and how to pay them.\nLocation: TBD
URL:https://bizstarts.com/event-local/get-clear-on-your-tax-obligations/
END:VEVENT
BEGIN:VEVENT
DTSTART;TZID=America/Chicago:20230408T090000
DTEND;TZID=America/Chicago:20230408T150000
DTSTAMP:20260419T231924
CREATED:20230222T213905Z
LAST-MODIFIED:20230222T220018Z
UID:7925-1680944400-1680966000@bizstarts.com
SUMMARY:Retail Training
DESCRIPTION:Date Tentative: with lunch break*\nTaught by Roxanne Parker from Florida State\, this class will prepare entrepreneurs for selling their product in the BizStart marketplace and beyond. It will detail pricing\, selling\, merchandising and other important aspects of retail and manufacturing.\nLocation: TBD
URL:https://bizstarts.com/event-local/retail-training/
END:VEVENT
BEGIN:VEVENT
DTSTART;TZID=America/Chicago:20230415T090000
DTEND;TZID=America/Chicago:20230415T120000
DTSTAMP:20260419T231924
CREATED:20230222T214012Z
LAST-MODIFIED:20230222T220114Z
UID:7927-1681549200-1681560000@bizstarts.com
SUMMARY:Mindset training
DESCRIPTION:Taught by Brent Halfwassen and Emerald Mills\, this condensed version of the mindset training will be held for the previous cohort as well as anyone in the public who would like to attend.\nLocation: TBD
URL:https://bizstarts.com/event-local/mindset-training/
END:VEVENT
BEGIN:VEVENT
DTSTART;TZID=America/Chicago:20230527T090000
DTEND;TZID=America/Chicago:20230527T120000
DTSTAMP:20260419T231924
CREATED:20230222T214236Z
LAST-MODIFIED:20230222T220206Z
UID:7929-1685178000-1685188800@bizstarts.com
SUMMARY:Determining your value
DESCRIPTION:*Date Tentative \n\n\n\n\nTaught by Brent Halfwassen and Jaqueline Ward this workshop will help entrepreneurs determine their value proposition as well as assess their current proposition.\nLocation: TBD
URL:https://bizstarts.com/event-local/determining-your-value/
END:VEVENT
BEGIN:VEVENT
DTSTART;TZID=America/Chicago:20230610T090000
DTEND;TZID=America/Chicago:20230610T120000
DTSTAMP:20260419T231924
CREATED:20230222T214348Z
LAST-MODIFIED:20230222T220259Z
UID:7931-1686387600-1686398400@bizstarts.com
SUMMARY:Squad Goals
DESCRIPTION:*Date Tentative\n(Due to popular demand from entrepreneurs surveyed) Taught by Kennita Hickman\, this workshop will cover the basics of networking including determining who is in your network\, how to expand your network online and offline\, and how to make your network work for you.\nLocation: TBD
URL:https://bizstarts.com/event-local/squad-goals/
END:VEVENT
BEGIN:VEVENT
DTSTART;TZID=America/Chicago:20230909T083000
DTEND;TZID=America/Chicago:20231014T123000
DTSTAMP:20260419T231924
CREATED:20230222T214445Z
LAST-MODIFIED:20230222T220843Z
UID:7933-1694248200-1697286600@bizstarts.com
SUMMARY:Institute 6
DESCRIPTION:6th cohort of the institute\nLocation: TBD
URL:https://bizstarts.com/event-local/institute-6/
END:VEVENT
BEGIN:VEVENT
DTSTART;TZID=America/Chicago:20231006T090000
DTEND;TZID=America/Chicago:20231111T120000
DTSTAMP:20260419T231924
CREATED:20230222T214628Z
LAST-MODIFIED:20230222T220931Z
UID:7935-1696582800-1699704000@bizstarts.com
SUMMARY:Instituto Latino de BizStarts 2
DESCRIPTION:2nd cohort of the Instituto Latino de BizStarts\nLocation: TBD
URL:https://bizstarts.com/event-local/instituto-latino-de-bizstarts-2/
END:VEVENT
END:VCALENDAR