BEGIN:VCALENDAR
VERSION:2.0
PRODID:-//BizStarts - ECPv6.14.2//NONSGML v1.0//EN
CALSCALE:GREGORIAN
METHOD:PUBLISH
X-WR-CALNAME:BizStarts
X-ORIGINAL-URL:https://bizstarts.com
X-WR-CALDESC:Events for BizStarts
REFRESH-INTERVAL;VALUE=DURATION:PT1H
X-Robots-Tag:noindex
X-PUBLISHED-TTL:PT1H
BEGIN:VTIMEZONE
TZID:America/Chicago
BEGIN:DAYLIGHT
TZOFFSETFROM:-0600
TZOFFSETTO:-0500
TZNAME:CDT
DTSTART:20180311T080000
END:DAYLIGHT
BEGIN:STANDARD
TZOFFSETFROM:-0500
TZOFFSETTO:-0600
TZNAME:CST
DTSTART:20181104T070000
END:STANDARD
BEGIN:DAYLIGHT
TZOFFSETFROM:-0600
TZOFFSETTO:-0500
TZNAME:CDT
DTSTART:20190310T080000
END:DAYLIGHT
BEGIN:STANDARD
TZOFFSETFROM:-0500
TZOFFSETTO:-0600
TZNAME:CST
DTSTART:20191103T070000
END:STANDARD
END:VTIMEZONE
BEGIN:VEVENT
DTSTART;TZID=America/Chicago:20190424T113000
DTEND;TZID=America/Chicago:20190424T130000
DTSTAMP:20260425T213020
CREATED:20190115T041624Z
LAST-MODIFIED:20190405T193857Z
UID:5240-1556105400-1556110800@bizstarts.com
SUMMARY:Weekly Work Sessions
DESCRIPTION:Weekly Work Sessions every Wednesday from 11:30AM-1:00PM starting January 23\, 2019\nJoin us at BizStarts’ office on Wednesday between 11:30AM-1PM to get your weekly business to-do list done and network with other entrepreneurs! We will have a coach present the last Wednesday of every month. \nPlease email sarah@bizstarts.com to reserve your spot.
URL:https://bizstarts.com/event-local/weekly-work-sessions-2019-04-24/
LOCATION:BizStarts\, 1555 N Rivercenter Dr. Suite 210\, Milwaukee\, WI 53212\, Milwaukee\, WI\, 53212\, US
END:VEVENT
BEGIN:VEVENT
DTSTART;TZID=America/Chicago:20190418T080000
DTEND;TZID=America/Chicago:20190418T100000
DTSTAMP:20260425T213020
CREATED:20190405T193620Z
LAST-MODIFIED:20190405T193620Z
UID:5489-1555574400-1555581600@bizstarts.com
SUMMARY:Mentor Forum 4/18/19
DESCRIPTION:BizStarts coaches select 1-2 entrepreneurs to present at the upcoming Mentor Forum. It is an opportunity for companies to seek candid feedback about their business obstacles\, challenges\, and struggles. It is a time for them to practice their pitch and receive feedback from BizStarts mentors and business professionals. Our goal is to sharpen their perspective\, pair them with one or more BizStarts mentors\, and to help them be successful in their ventures.
URL:https://bizstarts.com/event-local/mentor-forum-4-18-19/
LOCATION:BizStarts\, 1555 N Rivercenter Dr. Suite 210\, Milwaukee\, WI 53212\, Milwaukee\, WI\, 53212\, US
END:VEVENT
BEGIN:VEVENT
DTSTART;TZID=America/Chicago:20190417T113000
DTEND;TZID=America/Chicago:20190417T130000
DTSTAMP:20260425T213020
CREATED:20190115T041624Z
LAST-MODIFIED:20190405T193855Z
UID:5239-1555500600-1555506000@bizstarts.com
SUMMARY:Weekly Work Sessions
DESCRIPTION:Weekly Work Sessions every Wednesday from 11:30AM-1:00PM starting January 23\, 2019\nJoin us at BizStarts’ office on Wednesday between 11:30AM-1PM to get your weekly business to-do list done and network with other entrepreneurs! We will have a coach present the last Wednesday of every month. \nPlease email sarah@bizstarts.com to reserve your spot.
URL:https://bizstarts.com/event-local/weekly-work-sessions-2019-04-17/
LOCATION:BizStarts\, 1555 N Rivercenter Dr. Suite 210\, Milwaukee\, WI 53212\, Milwaukee\, WI\, 53212\, US
END:VEVENT
BEGIN:VEVENT
DTSTART;TZID=America/Chicago:20190410T113000
DTEND;TZID=America/Chicago:20190410T130000
DTSTAMP:20260425T213020
CREATED:20190115T041624Z
LAST-MODIFIED:20190405T193854Z
UID:5238-1554895800-1554901200@bizstarts.com
SUMMARY:Weekly Work Sessions
DESCRIPTION:Weekly Work Sessions every Wednesday from 11:30AM-1:00PM starting January 23\, 2019\nJoin us at BizStarts’ office on Wednesday between 11:30AM-1PM to get your weekly business to-do list done and network with other entrepreneurs! We will have a coach present the last Wednesday of every month. \nPlease email sarah@bizstarts.com to reserve your spot.
URL:https://bizstarts.com/event-local/weekly-work-sessions-2019-04-10/
LOCATION:BizStarts\, 1555 N Rivercenter Dr. Suite 210\, Milwaukee\, WI 53212\, Milwaukee\, WI\, 53212\, US
END:VEVENT
BEGIN:VEVENT
DTSTART;TZID=America/Chicago:20190403T113000
DTEND;TZID=America/Chicago:20190403T130000
DTSTAMP:20260425T213020
CREATED:20190115T041624Z
LAST-MODIFIED:20190405T193853Z
UID:5237-1554291000-1554296400@bizstarts.com
SUMMARY:Weekly Work Sessions
DESCRIPTION:Weekly Work Sessions every Wednesday from 11:30AM-1:00PM starting January 23\, 2019\nJoin us at BizStarts’ office on Wednesday between 11:30AM-1PM to get your weekly business to-do list done and network with other entrepreneurs! We will have a coach present the last Wednesday of every month. \nPlease email sarah@bizstarts.com to reserve your spot.
URL:https://bizstarts.com/event-local/weekly-work-sessions-2019-04-03/
LOCATION:BizStarts\, 1555 N Rivercenter Dr. Suite 210\, Milwaukee\, WI 53212\, Milwaukee\, WI\, 53212\, US
END:VEVENT
BEGIN:VEVENT
DTSTART;TZID=America/Chicago:20190327T113000
DTEND;TZID=America/Chicago:20190327T130000
DTSTAMP:20260425T213020
CREATED:20190115T041624Z
LAST-MODIFIED:20190405T193853Z
UID:5236-1553686200-1553691600@bizstarts.com
SUMMARY:Weekly Work Sessions
DESCRIPTION:Weekly Work Sessions every Wednesday from 11:30AM-1:00PM starting January 23\, 2019\nJoin us at BizStarts’ office on Wednesday between 11:30AM-1PM to get your weekly business to-do list done and network with other entrepreneurs! We will have a coach present the last Wednesday of every month. \nPlease email sarah@bizstarts.com to reserve your spot.
URL:https://bizstarts.com/event-local/weekly-work-sessions-2019-03-27/
LOCATION:BizStarts\, 1555 N Rivercenter Dr. Suite 210\, Milwaukee\, WI 53212\, Milwaukee\, WI\, 53212\, US
END:VEVENT
BEGIN:VEVENT
DTSTART;TZID=America/Chicago:20190321T080000
DTEND;TZID=America/Chicago:20190321T100000
DTSTAMP:20260425T213020
CREATED:20190306T194604Z
LAST-MODIFIED:20190306T194639Z
UID:5356-1553155200-1553162400@bizstarts.com
SUMMARY:Mentor Forum 3/21/19
DESCRIPTION:BizStarts coaches select 1-2 entrepreneurs to present at the upcoming Mentor Forum. It is an opportunity for companies to seek candid feedback about their business obstacles\, challenges\, and struggles. It is a time for them to practice their pitch and receive feedback from BizStarts mentors and business professionals. Our goal is to sharpen their perspective\, pair them with one or more BizStarts mentors\, and to help them be successful in their ventures.
URL:https://bizstarts.com/event-local/mentor-forum/
LOCATION:BizStarts\, 1555 N Rivercenter Dr. Suite 210\, Milwaukee\, WI 53212\, Milwaukee\, WI\, 53212\, US
END:VEVENT
BEGIN:VEVENT
DTSTART;TZID=America/Chicago:20190320T113000
DTEND;TZID=America/Chicago:20190320T130000
DTSTAMP:20260425T213020
CREATED:20190115T041624Z
LAST-MODIFIED:20190405T193852Z
UID:5235-1553081400-1553086800@bizstarts.com
SUMMARY:Weekly Work Sessions
DESCRIPTION:Weekly Work Sessions every Wednesday from 11:30AM-1:00PM starting January 23\, 2019\nJoin us at BizStarts’ office on Wednesday between 11:30AM-1PM to get your weekly business to-do list done and network with other entrepreneurs! We will have a coach present the last Wednesday of every month. \nPlease email sarah@bizstarts.com to reserve your spot.
URL:https://bizstarts.com/event-local/weekly-work-sessions-2019-03-20/
LOCATION:BizStarts\, 1555 N Rivercenter Dr. Suite 210\, Milwaukee\, WI 53212\, Milwaukee\, WI\, 53212\, US
END:VEVENT
BEGIN:VEVENT
DTSTART;TZID=America/Chicago:20190313T113000
DTEND;TZID=America/Chicago:20190313T130000
DTSTAMP:20260425T213020
CREATED:20190115T041624Z
LAST-MODIFIED:20190405T193851Z
UID:5234-1552476600-1552482000@bizstarts.com
SUMMARY:Weekly Work Sessions
DESCRIPTION:Weekly Work Sessions every Wednesday from 11:30AM-1:00PM starting January 23\, 2019\nJoin us at BizStarts’ office on Wednesday between 11:30AM-1PM to get your weekly business to-do list done and network with other entrepreneurs! We will have a coach present the last Wednesday of every month. \nPlease email sarah@bizstarts.com to reserve your spot.
URL:https://bizstarts.com/event-local/weekly-work-sessions-2019-03-13/
LOCATION:BizStarts\, 1555 N Rivercenter Dr. Suite 210\, Milwaukee\, WI 53212\, Milwaukee\, WI\, 53212\, US
END:VEVENT
BEGIN:VEVENT
DTSTART;TZID=America/Chicago:20190306T113000
DTEND;TZID=America/Chicago:20190306T130000
DTSTAMP:20260425T213020
CREATED:20190115T041624Z
LAST-MODIFIED:20190405T193850Z
UID:5233-1551871800-1551877200@bizstarts.com
SUMMARY:Weekly Work Sessions
DESCRIPTION:Weekly Work Sessions every Wednesday from 11:30AM-1:00PM starting January 23\, 2019\nJoin us at BizStarts’ office on Wednesday between 11:30AM-1PM to get your weekly business to-do list done and network with other entrepreneurs! We will have a coach present the last Wednesday of every month. \nPlease email sarah@bizstarts.com to reserve your spot.
URL:https://bizstarts.com/event-local/weekly-work-sessions-2019-03-06/
LOCATION:BizStarts\, 1555 N Rivercenter Dr. Suite 210\, Milwaukee\, WI 53212\, Milwaukee\, WI\, 53212\, US
END:VEVENT
BEGIN:VEVENT
DTSTART;TZID=America/Chicago:20190228T183000
DTEND;TZID=America/Chicago:20190228T200000
DTSTAMP:20260425T213020
CREATED:20190214T215815Z
LAST-MODIFIED:20190214T215815Z
UID:5255-1551378600-1551384000@bizstarts.com
SUMMARY:Intro to Entrepreneurship | Launch MKE - Milwaukee Urban League
DESCRIPTION:If you’ve been holding off finding out what it takes to make it in business…or you’ve been too busy running your business…now’s your time!\nThis free Intro to Entrepreneurship Event is a “must-attend” event for anyone even remotely curious about starting or growing their business.\nThe 90 minute session will cover: how to (1) search out the benefits of your product or service\, (2) learn how to tell your story in 20 words or less\, and (3) figuring out how to make money.\nSome quick information about the facilitators…\nBizStarts offers one-on-one entrepreneur coaching\, personalized mentoring and connections to business resources. The LaunchMKE Co-Starter Program gives entrepreneurs a foundation upon which to start and grow their business. We partner together to offer participants in the LaunchMKE Co-Starter Program personalized support before\, during\, and after the program at no additional cost.
URL:https://bizstarts.com/event-local/intro-to-entrepreneurship-launch-mke-milwaukee-urban-league/
LOCATION:The Milwaukee Urban League\, 435 West North Avenue\, Milwaukee\, WI 53212\, Milwaukee\, WI\, 53212\, US
ATTACH;FMTTYPE=image/jpeg:https://bizstarts.com/wp-content/uploads/2019/02/5255_image.jpg
END:VEVENT
BEGIN:VEVENT
DTSTART;TZID=America/Chicago:20190227T113000
DTEND;TZID=America/Chicago:20190227T130000
DTSTAMP:20260425T213020
CREATED:20190115T041624Z
LAST-MODIFIED:20190405T193844Z
UID:5232-1551267000-1551272400@bizstarts.com
SUMMARY:Weekly Work Sessions
DESCRIPTION:Weekly Work Sessions every Wednesday from 11:30AM-1:00PM starting January 23\, 2019\nJoin us at BizStarts’ office on Wednesday between 11:30AM-1PM to get your weekly business to-do list done and network with other entrepreneurs! We will have a coach present the last Wednesday of every month. \nPlease email sarah@bizstarts.com to reserve your spot.
URL:https://bizstarts.com/event-local/weekly-work-sessions-2019-02-27/
LOCATION:BizStarts\, 1555 N Rivercenter Dr. Suite 210\, Milwaukee\, WI 53212\, Milwaukee\, WI\, 53212\, US
END:VEVENT
BEGIN:VEVENT
DTSTART;TZID=America/Chicago:20190225T180000
DTEND;TZID=America/Chicago:20190225T193000
DTSTAMP:20260425T213020
CREATED:20190222T202107Z
LAST-MODIFIED:20190222T202107Z
UID:5338-1551117600-1551123000@bizstarts.com
SUMMARY:Intro to Entrepreneurship | Launch MKE - CUW Midtown Center
DESCRIPTION:If you’ve been holding off finding out what it takes to make it in business…or you’ve been too busy running your business…now’s your time! \nThis free Intro to Entrepreneurship Event is a “must-attend” event for anyone even remotely curious about starting or growing their business. \nThe 90 minute session will cover: how to (1) search out the benefits of your product or service\, (2) learn how to tell your story in 20 words or less\, and (3) figuring out how to make money. \nSome quick information about the facilitators… \nBizStarts offers one-on-one entrepreneur coaching\, personalized mentoring and connections to business resources. The LaunchMKE Co-Starter Program gives entrepreneurs a foundation upon which to start and grow their business. We partner together to offer participants in the LaunchMKE Co-Starter Program personalized support before\, during\, and after the program at no additional cost.
URL:https://bizstarts.com/event-local/intro-to-entrepreneurship-launch-mke-cuw-midtown-center/
LOCATION:Concordia Midtown\, 4151 N 56th St\, Milwaukee\, WI\, 53216\, United States
END:VEVENT
BEGIN:VEVENT
DTSTART;TZID=America/Chicago:20190220T113000
DTEND;TZID=America/Chicago:20190220T130000
DTSTAMP:20260425T213020
CREATED:20190115T041624Z
LAST-MODIFIED:20190405T193843Z
UID:5231-1550662200-1550667600@bizstarts.com
SUMMARY:Weekly Work Sessions
DESCRIPTION:Weekly Work Sessions every Wednesday from 11:30AM-1:00PM starting January 23\, 2019\nJoin us at BizStarts’ office on Wednesday between 11:30AM-1PM to get your weekly business to-do list done and network with other entrepreneurs! We will have a coach present the last Wednesday of every month. \nPlease email sarah@bizstarts.com to reserve your spot.
URL:https://bizstarts.com/event-local/weekly-work-sessions-2019-02-20/
LOCATION:BizStarts\, 1555 N Rivercenter Dr. Suite 210\, Milwaukee\, WI 53212\, Milwaukee\, WI\, 53212\, US
END:VEVENT
BEGIN:VEVENT
DTSTART;TZID=America/Chicago:20190220T080000
DTEND;TZID=America/Chicago:20190220T170000
DTSTAMP:20260425T213020
CREATED:20190306T194807Z
LAST-MODIFIED:20190306T194933Z
UID:5359-1550649600-1550682000@bizstarts.com
SUMMARY:Mentor Forum 2/20/19
DESCRIPTION:BizStarts coaches select 1-2 entrepreneurs to present at the upcoming Mentor Forum. It is an opportunity for companies to seek candid feedback about their business obstacles\, challenges\, and struggles. It is a time for them to practice their pitch and receive feedback from BizStarts mentors and business professionals. Our goal is to sharpen their perspective\, pair them with one or more BizStarts mentors\, and to help them be successful in their ventures.
URL:https://bizstarts.com/event-local/mentor-forum-2-20-19/
LOCATION:BizStarts\, 1555 N Rivercenter Dr. Suite 210\, Milwaukee\, WI 53212\, Milwaukee\, WI\, 53212\, US
END:VEVENT
BEGIN:VEVENT
DTSTART;TZID=America/Chicago:20190213T113000
DTEND;TZID=America/Chicago:20190213T130000
DTSTAMP:20260425T213020
CREATED:20190115T041624Z
LAST-MODIFIED:20190405T193843Z
UID:5230-1550057400-1550062800@bizstarts.com
SUMMARY:Weekly Work Sessions
DESCRIPTION:Weekly Work Sessions every Wednesday from 11:30AM-1:00PM starting January 23\, 2019\nJoin us at BizStarts’ office on Wednesday between 11:30AM-1PM to get your weekly business to-do list done and network with other entrepreneurs! We will have a coach present the last Wednesday of every month. \nPlease email sarah@bizstarts.com to reserve your spot.
URL:https://bizstarts.com/event-local/weekly-work-sessions-2019-02-13/
LOCATION:BizStarts\, 1555 N Rivercenter Dr. Suite 210\, Milwaukee\, WI 53212\, Milwaukee\, WI\, 53212\, US
END:VEVENT
BEGIN:VEVENT
DTSTART;TZID=America/Chicago:20190206T113000
DTEND;TZID=America/Chicago:20190206T130000
DTSTAMP:20260425T213020
CREATED:20190115T041624Z
LAST-MODIFIED:20190405T193843Z
UID:5229-1549452600-1549458000@bizstarts.com
SUMMARY:Weekly Work Sessions
DESCRIPTION:Weekly Work Sessions every Wednesday from 11:30AM-1:00PM starting January 23\, 2019\nJoin us at BizStarts’ office on Wednesday between 11:30AM-1PM to get your weekly business to-do list done and network with other entrepreneurs! We will have a coach present the last Wednesday of every month. \nPlease email sarah@bizstarts.com to reserve your spot.
URL:https://bizstarts.com/event-local/weekly-work-sessions-2019-02-06/
LOCATION:BizStarts\, 1555 N Rivercenter Dr. Suite 210\, Milwaukee\, WI 53212\, Milwaukee\, WI\, 53212\, US
END:VEVENT
BEGIN:VEVENT
DTSTART;TZID=America/Chicago:20190130T113000
DTEND;TZID=America/Chicago:20190130T130000
DTSTAMP:20260425T213020
CREATED:20190115T041624Z
LAST-MODIFIED:20190405T193843Z
UID:5228-1548847800-1548853200@bizstarts.com
SUMMARY:Weekly Work Sessions
DESCRIPTION:Weekly Work Sessions every Wednesday from 11:30AM-1:00PM starting January 23\, 2019\nJoin us at BizStarts’ office on Wednesday between 11:30AM-1PM to get your weekly business to-do list done and network with other entrepreneurs! We will have a coach present the last Wednesday of every month. \nPlease email sarah@bizstarts.com to reserve your spot.
URL:https://bizstarts.com/event-local/weekly-work-sessions-2019-01-30/
LOCATION:BizStarts\, 1555 N Rivercenter Dr. Suite 210\, Milwaukee\, WI 53212\, Milwaukee\, WI\, 53212\, US
END:VEVENT
BEGIN:VEVENT
DTSTART;TZID=America/Chicago:20190123T113000
DTEND;TZID=America/Chicago:20190123T130000
DTSTAMP:20260425T213020
CREATED:20190115T041624Z
LAST-MODIFIED:20190405T193842Z
UID:5041-1548243000-1548248400@bizstarts.com
SUMMARY:Weekly Work Sessions
DESCRIPTION:Weekly Work Sessions every Wednesday from 11:30AM-1:00PM starting January 23\, 2019\nJoin us at BizStarts’ office on Wednesday between 11:30AM-1PM to get your weekly business to-do list done and network with other entrepreneurs! We will have a coach present the last Wednesday of every month. \nPlease email sarah@bizstarts.com to reserve your spot.
URL:https://bizstarts.com/event-local/weekly-work-sessions/
LOCATION:BizStarts\, 1555 N Rivercenter Dr. Suite 210\, Milwaukee\, WI 53212\, Milwaukee\, WI\, 53212\, US
END:VEVENT
BEGIN:VEVENT
DTSTART;TZID=America/Chicago:20190110T080000
DTEND;TZID=America/Chicago:20190110T170000
DTSTAMP:20260425T213020
CREATED:20190306T194842Z
LAST-MODIFIED:20190306T194842Z
UID:5361-1547107200-1547139600@bizstarts.com
SUMMARY:Mentor Forum 1/10/19
DESCRIPTION:BizStarts coaches select 1-2 entrepreneurs to present at the upcoming Mentor Forum. It is an opportunity for companies to seek candid feedback about their business obstacles\, challenges\, and struggles. It is a time for them to practice their pitch and receive feedback from BizStarts mentors and business professionals. Our goal is to sharpen their perspective\, pair them with one or more BizStarts mentors\, and to help them be successful in their ventures.
URL:https://bizstarts.com/event-local/mentor-forum-1-10-19/
LOCATION:BizStarts\, 1555 N Rivercenter Dr. Suite 210\, Milwaukee\, WI 53212\, Milwaukee\, WI\, 53212\, US
END:VEVENT
BEGIN:VEVENT
DTSTART;TZID=America/Chicago:20181213T183000
DTEND;TZID=America/Chicago:20181213T200000
DTSTAMP:20260425T213020
CREATED:20181211T002642Z
LAST-MODIFIED:20181211T002642Z
UID:4926-1544725800-1544731200@bizstarts.com
SUMMARY:Launch MKE Fall 2018 Graduation
DESCRIPTION:Join us to celebrate the accomplishments of Launch MKE’s Fall 2018 graduating cohort on Dec. 13th at Social Development Commission!\nYou will be able to hear each of the graduates’ pitch of their business. Dinner will be provided.\nPlease RSVP by Dec. 11th. \nAgenda:\n\n6:30PM-7:00PM Dinner and networking\n7:00PM Welcome from SDC\n7:00PM-8:00PM Program & Pitches
URL:https://bizstarts.com/event-local/launch-mke-fall-2018-graduation/
LOCATION:Social Development Commission\, 1730 West North Avenue\, Milwaukee\, WI 53205\, Milwaukee\, WI\, 53205\, US
ATTACH;FMTTYPE=image/png:https://bizstarts.com/wp-content/uploads/2018/12/4926_image_original.png
END:VEVENT
BEGIN:VEVENT
DTSTART;TZID=America/Chicago:20181108T080000
DTEND;TZID=America/Chicago:20181108T100000
DTSTAMP:20260425T213020
CREATED:20181011T181000Z
LAST-MODIFIED:20181011T181000Z
UID:4830-1541664000-1541671200@bizstarts.com
SUMMARY:BizStarts' Speed Mentoring
DESCRIPTION:Join us at BizStarts’ Speed Mentoring during Milwaukee Startup Week!\nWhat is Speed Mentoring? Entrepreneurs seeking business advice from business leaders on marketing\, legal\, accounting\, scaling and more will have the opportunity to meet BizStarts’ Mentor Network and be connected with a Mentor based on your business challenges and opportunities all in record time!\n\nPlease email sarah@bizstarts.com with any questions.
URL:https://bizstarts.com/event-local/bizstarts-speed-mentoring/
LOCATION:BizStarts’ Office in Schlitz Park\, 1555 North Rivercenter Drive Suite 210\, Milwaukee\, WI 53212\, Milwaukee\, WI\, 53212\, US
ATTACH;FMTTYPE=image/png:https://bizstarts.com/wp-content/uploads/2018/10/4830_image_original.png
END:VEVENT
BEGIN:VEVENT
DTSTART;TZID=America/Chicago:20181106T073000
DTEND;TZID=America/Chicago:20181106T090000
DTSTAMP:20260425T213020
CREATED:20181011T181036Z
LAST-MODIFIED:20181011T181036Z
UID:4833-1541489400-1541494800@bizstarts.com
SUMMARY:Ask the Expert | Managing Cash Flow
DESCRIPTION:At BizStarts’ Ask the Expert Series\, one of BizStarts’ sponsors or partners will briefly present on a business topic and then you will have plenty of time to “ask the expert” your questions and work on your business! This fall US Bank will lead the Ask the Expert Series and cover financial topics.\nAgenda:\n\n7:30-7:45 breakfast\n7:45-8:10 Presentation\n8:10- 9am Worksheet / Q&A\n\nAfter completing this module\, participants will be able to:\n\nUnderstand the purpose of cash flow management in a small business\nMake cash flow projections based on the cash cycle\nIdentify some ways to manage cash flow\, including receivables and payables\nWork more effectively with technical experts
URL:https://bizstarts.com/event-local/ask-the-expert-managing-cash-flow/
LOCATION:BizStarts\, 1555 N Rivercenter Dr. Suite 210\, Milwaukee\, WI 53212\, Milwaukee\, WI\, 53212\, US
ATTACH;FMTTYPE=image/png:https://bizstarts.com/wp-content/uploads/2018/10/4833_image_original.png
END:VEVENT
BEGIN:VEVENT
DTSTART;TZID=America/Chicago:20181030T170000
DTEND;TZID=America/Chicago:20181030T200000
DTSTAMP:20260425T213020
CREATED:20180913T162213Z
LAST-MODIFIED:20180913T162213Z
UID:4598-1540918800-1540929600@bizstarts.com
SUMMARY:BizStarts' 10 Year Celebration
DESCRIPTION:BizStarts is celebrating 10 years of fostering entrepreneurship in Milwaukee! Join us as we are honor 10 of this region’s great entrepreneurs and iconic companies. Our honorees will be inducted into the BizStarts’ Hall of Fame that will be housed at the new UWM Lubar Entrepreneurship Center opening in 2019! \nThis is also an opportunity to meet aspiring and new entrepreneurs working with BizStarts to reach their goals and create healthy\, sustainable businesses! There will be a marketplace to learn about each business and local food provided! \nCome network with business leaders\, emerging small business owners\, and local organizations dedicated to supporting the growth of Wisconsin’s economy!\nFor additional sponsorship information\, please email elizabeth@bizstarts.com or call 414-973-2334.\nWe look forward to celebrating with you!\n\nBizStarts 2018 Hall of Fame Honorees:\nAldrich Chemical\, Dan BaderBaptista’s Bakery Inc.\, Nan GardettoBriggs & Stratton\, Todd TeskeDohmen\, Cynthia LaConteMortara Instrument Inc.\, Justin MortaraMillerCoors\, David OsswaldNorthwestern Mutual\, Award acceptance TBDPaper Machinery Corporation\, Donald BaumgartnerQuad/Graphics\, Joel QuadracciV&J Holding Companies\, Valerie Daniels-Carter\n\nSchedule:\n5:00 – 6:00 pm: Networking\, appetizers & cocktails from local vendors\, Entrepreneur Marketplace6:00 – 7:00 pm: Program & Hall of Fame Induction 7:00 – 8:00 pm: Networking continues
URL:https://bizstarts.com/event-local/bizstarts-10-year-celebration/
LOCATION:MillerCoors Historic Stables\, 4251 W State St\, Milwaukee\, WI 53208\, Milwaukee\, WI\, 53208\, US
ATTACH;FMTTYPE=image/png:https://bizstarts.com/wp-content/uploads/2018/09/4598_image_original.png
END:VEVENT
BEGIN:VEVENT
DTSTART;TZID=America/Chicago:20181023T073000
DTEND;TZID=America/Chicago:20181023T090000
DTSTAMP:20260425T213020
CREATED:20180925T140842Z
LAST-MODIFIED:20180925T140842Z
UID:4805-1540279800-1540285200@bizstarts.com
SUMMARY:Ask the Expert | Financial Management
DESCRIPTION:One of BizStarts’ sponsors or partners will briefly present on a business topic and then you will have plenty of time to “ask the expert” your questions and work on your business! This fall US Bank will lead the Ask the Expert Series and cover financial topics.\nAgenda:\n\n7:30-7:45 breakfast\n7:45-8:10 Presentation\n8:10- 9am Worksheet / Q&A\n\nAfter completing this module\, participants will be able to: \n\nUnderstand the essentials of financial management\nApply financial management practices\, rules\, and tools most relevant for small businesses\nPrepare for common business financing needs: start-up finance\, working capital\, and fixed asset loans
URL:https://bizstarts.com/event-local/ask-the-expert-financial-management/
LOCATION:BizStarts\, 1555 N Rivercenter Dr. Suite 210\, Milwaukee\, WI 53212\, Milwaukee\, WI\, 53212\, US
ATTACH;FMTTYPE=image/png:https://bizstarts.com/wp-content/uploads/2018/09/4805_image_original.png
END:VEVENT
BEGIN:VEVENT
DTSTART;TZID=America/Chicago:20181009T080000
DTEND;TZID=America/Chicago:20181009T100000
DTSTAMP:20260425T213020
CREATED:20180925T204849Z
LAST-MODIFIED:20180925T204849Z
UID:4809-1539072000-1539079200@bizstarts.com
SUMMARY:GMF On the Table | BizStarts & Diverse Dining
DESCRIPTION:BizStarts is hosting a GMF On the Table discussion lead by Emerald Mills\, founder of Diverse Dining. The topic for the event will be vulnerability and having the courage to share your story.\nOn the Table MKE was introduced by the Greater Milwaukee Foundation in 2017 as a forum for building relationships\, generating ideas through respectful dialogue and putting those ideas in motion for the benefit of the community.\nAttending the event is free\, breakfast will be $10 which can be paid cash or card at On the Bayou.\nAgenda:\n8:00 – 8:15 am Coffee & Networking\n8:15 – 8:30 am Morning Intro & Resturant Intro\n8:30 – 8:45 am Grab Food and get settled (buffet style)\n8:45 – 9:00 am The MKE Experience / Founder’s Story\n9:00am – 9:15am Game\n9:15am – 9:45am Table discussion\n9:45am – 10:00am Call to action
URL:https://bizstarts.com/event-local/gmf-on-the-table-bizstarts-diverse-dining/
LOCATION:On the Bayou\, 2053 N Dr. MLK\, Milwaukee\, WI 53212\, Milwaukee\, WI\, 53212\, US
ATTACH;FMTTYPE=image/png:https://bizstarts.com/wp-content/uploads/2018/09/4809_image_original.png
END:VEVENT
BEGIN:VEVENT
DTSTART;TZID=America/Chicago:20180920T150000
DTEND;TZID=America/Chicago:20180920T163000
DTSTAMP:20260425T213020
CREATED:20180911T150732Z
LAST-MODIFIED:20180922T235344Z
UID:4492-1537455600-1537461000@bizstarts.com
SUMMARY:Intro to Entrepreneurship | BizStarts & Launch MKE - St. Ann Center (Bucyrus Campus)
DESCRIPTION:If you have a business idea or have already started a business\, join us for a FREE 90 Minute Introductory to Entrepreneurship session! BizStarts and Launch MKE will lead you through the process of how to start your business or to strengthen the business you already opened.\nLaunch MKE strengthens the growth of organizations focused on innovation and entrepreneurship by offering a cohort program. Launch MKE’s fall cohorts will begin the week of Oct. 1 and will be offered on Tuesday and Thursday nights.\nBizStarts offers 1:1 ongoing\, on-demand coaching\, mentors\, and connections to resources to guide you on your journey.\nIf you’ve been holding off on finding out what it takes to make it in business\, or you’ve been too busy running your business\, now is your time!\nAppetizers will be provided. Please email sarah@bizstarts.com if you have any questions!
URL:https://bizstarts.com/event-local/intro-to-entrepreneurship-bizstarts-launch-mke-st-ann-center-bucyrus-campus/
LOCATION:St. Ann Center – Bucyrus Campus\, 2450 W North Ave\, Milwaukee\, WI 53205\, Milwaukee\, WI\, 53205
ATTACH;FMTTYPE=image/png:https://bizstarts.com/wp-content/uploads/2018/09/4492_image_original.png
END:VEVENT
BEGIN:VEVENT
DTSTART;TZID=America/Chicago:20180918T173000
DTEND;TZID=America/Chicago:20180918T190000
DTSTAMP:20260425T213020
CREATED:20180911T150416Z
LAST-MODIFIED:20180911T164119Z
UID:4488-1537291800-1537297200@bizstarts.com
SUMMARY:Intro to Entrepreneurship | BizStarts & Launch MKE - Social Development Commission (SDC)
DESCRIPTION:If you have a business idea or have already started a business\, join us for a FREE 90 Minute Introductory to Entrepreneurship session! BizStarts and Launch MKE will lead you through the process of how to start your business or to strengthen the business you already opened. \nLaunch MKE strengthens the growth of organizations focused on innovation and entrepreneurship by offering a cohort program. Launch MKE’s fall cohorts will begin the week of Oct. 1 and will be offered on Tuesday and Thursday nights. \nBizStarts offers 1:1 ongoing\, on-demand coaching\, mentors\, and connections to resources to guide you on your journey. \nIf you’ve been holding off on finding out what it takes to make it in business\, or you’ve been too busy running your business\, now is your time! \nAppetizers will be provided. Please email sarah@bizstarts.com if you have any questions!
URL:https://bizstarts.com/event-local/intro-to-entrepreneurship-bizstarts-launch-mke-social-development-commission-sdc/
LOCATION:Social Development Commission\, 1730 West North Avenue\, Milwaukee\, WI 53205\, Milwaukee\, WI\, 53205\, US
ATTACH;FMTTYPE=image/png:https://bizstarts.com/wp-content/uploads/2018/09/4488_image_original.png
END:VEVENT
END:VCALENDAR