BEGIN:VCALENDAR
VERSION:2.0
PRODID:-//BizStarts - ECPv6.14.2//NONSGML v1.0//EN
CALSCALE:GREGORIAN
METHOD:PUBLISH
X-WR-CALNAME:BizStarts
X-ORIGINAL-URL:https://bizstarts.com
X-WR-CALDESC:Events for BizStarts
REFRESH-INTERVAL;VALUE=DURATION:PT1H
X-Robots-Tag:noindex
X-PUBLISHED-TTL:PT1H
BEGIN:VTIMEZONE
TZID:America/Chicago
BEGIN:DAYLIGHT
TZOFFSETFROM:-0600
TZOFFSETTO:-0500
TZNAME:CDT
DTSTART:20190310T080000
END:DAYLIGHT
BEGIN:STANDARD
TZOFFSETFROM:-0500
TZOFFSETTO:-0600
TZNAME:CST
DTSTART:20191103T070000
END:STANDARD
END:VTIMEZONE
BEGIN:VEVENT
DTSTART;TZID=America/Chicago:20191112T080000
DTEND;TZID=America/Chicago:20191112T100000
DTSTAMP:20260425T092154
CREATED:20191023T175614Z
LAST-MODIFIED:20191023T175614Z
UID:6225-1573545600-1573552800@bizstarts.com
SUMMARY:Ask the Expert | Planning for a Healthy Business
DESCRIPTION:BizStarts and US Bank are partnering again with Startup Milwaukee Week to host an Ask the Expert event on “Planning for a Healthy Business.” US Bank will make a brief presentation and then you will have plenty of time to “ask the expert” your questions and work on your business! \nAgenda: \n\n8:00-8:30AM Networking\n8:30-9:00AM Presentation\n9:00-9:30AM Worksheet / Q&A\n9:30AM-10:00AM Networking\n\nAfter completing this module\, participants will be able to: \n\nConvert a vague idea into a resource plan\nUnderstand how a business plan helps motivate stakeholders to support their business ideas\nUnderstand the importance of personal credit and a healthy relationship with lenders\n\nStartup Milwaukee Week November\, 11 – 17\, 2019 is designed to connect\, educate\, and celebrate entrepreneurs in Southeast Wisconsin. The fourth annual event will showcase the Milwaukee region’s emerging entrepreneurs and high-growth startups while highlighting the resources available to support entrepreneurs on their journey. The week features dozens of free workshops\, pitch events\, panels and networking events hosted by 50+ partner organizations in the community.
URL:https://bizstarts.com/event-local/ask-the-expert-planning-for-a-healthy-business/
LOCATION:BizStarts\, 1555 N Rivercenter Dr. Suite 210\, Milwaukee\, WI 53212\, Milwaukee\, WI\, 53212\, US
ATTACH;FMTTYPE=image/jpeg:https://bizstarts.com/wp-content/uploads/2019/10/Ask-the-Expert-Planning-for-a-Healthy-Business.jpeg
END:VEVENT
BEGIN:VEVENT
DTSTART;TZID=America/Chicago:20191106T113000
DTEND;TZID=America/Chicago:20191106T130000
DTSTAMP:20260425T092154
CREATED:20190811T220348Z
LAST-MODIFIED:20190811T220348Z
UID:5966-1573039800-1573045200@bizstarts.com
SUMMARY:Weekly Work Sessions
DESCRIPTION:Weekly Work Sessions every Wednesday from 11:30AM-1:00PM\nBring your work to BizStarts’ office every Wednesday between 11:30AM-1PM to get your weekly business to-do list done\, set aside time to work on your business\, and network with other entrepreneurs! \nPlease email kevin@bizstarts.com to reserve your spot.
URL:https://bizstarts.com/event-local/weekly-work-sessions-2-2019-11-06/
LOCATION:BizStarts\, 1555 N Rivercenter Dr. Suite 210\, Milwaukee\, WI 53212\, Milwaukee\, WI\, 53212\, US
END:VEVENT
BEGIN:VEVENT
DTSTART;TZID=America/Chicago:20191030T113000
DTEND;TZID=America/Chicago:20191030T130000
DTSTAMP:20260425T092154
CREATED:20190811T220348Z
LAST-MODIFIED:20190811T220348Z
UID:5965-1572435000-1572440400@bizstarts.com
SUMMARY:Weekly Work Sessions
DESCRIPTION:Weekly Work Sessions every Wednesday from 11:30AM-1:00PM\nBring your work to BizStarts’ office every Wednesday between 11:30AM-1PM to get your weekly business to-do list done\, set aside time to work on your business\, and network with other entrepreneurs! \nPlease email kevin@bizstarts.com to reserve your spot.
URL:https://bizstarts.com/event-local/weekly-work-sessions-2-2019-10-30/
LOCATION:BizStarts\, 1555 N Rivercenter Dr. Suite 210\, Milwaukee\, WI 53212\, Milwaukee\, WI\, 53212\, US
END:VEVENT
BEGIN:VEVENT
DTSTART;TZID=America/Chicago:20191023T113000
DTEND;TZID=America/Chicago:20191023T130000
DTSTAMP:20260425T092154
CREATED:20190811T220348Z
LAST-MODIFIED:20190811T220348Z
UID:5964-1571830200-1571835600@bizstarts.com
SUMMARY:Weekly Work Sessions
DESCRIPTION:Weekly Work Sessions every Wednesday from 11:30AM-1:00PM\nBring your work to BizStarts’ office every Wednesday between 11:30AM-1PM to get your weekly business to-do list done\, set aside time to work on your business\, and network with other entrepreneurs! \nPlease email kevin@bizstarts.com to reserve your spot.
URL:https://bizstarts.com/event-local/weekly-work-sessions-2-2019-10-23/
LOCATION:BizStarts\, 1555 N Rivercenter Dr. Suite 210\, Milwaukee\, WI 53212\, Milwaukee\, WI\, 53212\, US
END:VEVENT
BEGIN:VEVENT
DTSTART;TZID=America/Chicago:20191016T113000
DTEND;TZID=America/Chicago:20191016T130000
DTSTAMP:20260425T092154
CREATED:20190811T220348Z
LAST-MODIFIED:20190811T220348Z
UID:5963-1571225400-1571230800@bizstarts.com
SUMMARY:Weekly Work Sessions
DESCRIPTION:Weekly Work Sessions every Wednesday from 11:30AM-1:00PM\nBring your work to BizStarts’ office every Wednesday between 11:30AM-1PM to get your weekly business to-do list done\, set aside time to work on your business\, and network with other entrepreneurs! \nPlease email kevin@bizstarts.com to reserve your spot.
URL:https://bizstarts.com/event-local/weekly-work-sessions-2-2019-10-16/
LOCATION:BizStarts\, 1555 N Rivercenter Dr. Suite 210\, Milwaukee\, WI 53212\, Milwaukee\, WI\, 53212\, US
END:VEVENT
BEGIN:VEVENT
DTSTART;TZID=America/Chicago:20191010T080000
DTEND;TZID=America/Chicago:20191010T100000
DTSTAMP:20260425T092154
CREATED:20190911T192522Z
LAST-MODIFIED:20190911T192522Z
UID:6042-1570694400-1570701600@bizstarts.com
SUMMARY:On the Table MKE | The Entrepreneurial Journey
DESCRIPTION:BizStarts is hosting an On the Table MKE discussion led by Emerald Mills\, founder of Diverse Dining. Our event will take place at a new\, local business—Orenda Café!\nThis year\, our conversation will be centered around the Entrepreneurial Journey and using our experiences and abilities to find creative solutions that strengthen our community through entrepreneurship.\nWhether you’re a business owner\, thinking about starting a business\, a business resource provider\, or a community member wanting to learn more about how entrepreneurship can impact our community\, we’d love for you to join our discussion! \nCreated by the Greater Milwaukee Foundation and driven by the community\, On the Table MKE is an annual initiative that builds on intentional conversations to strengthen relationships and spur collaborative action\, leading to meaningful change and a higher quality of life.
URL:https://bizstarts.com/event-local/on-the-table-mke-the-entrepreneurial-journey/
LOCATION:Orenda Cafe\, 3514 W National Ave\, Milwaukee\, WI 53215\, Milwaukee\, WI\, 53215\, US
ATTACH;FMTTYPE=image/png:https://bizstarts.com/wp-content/uploads/2019/09/6042_image.png
END:VEVENT
BEGIN:VEVENT
DTSTART;TZID=America/Chicago:20191009T113000
DTEND;TZID=America/Chicago:20191009T130000
DTSTAMP:20260425T092154
CREATED:20190811T220348Z
LAST-MODIFIED:20190811T220348Z
UID:5962-1570620600-1570626000@bizstarts.com
SUMMARY:Weekly Work Sessions
DESCRIPTION:Weekly Work Sessions every Wednesday from 11:30AM-1:00PM\nBring your work to BizStarts’ office every Wednesday between 11:30AM-1PM to get your weekly business to-do list done\, set aside time to work on your business\, and network with other entrepreneurs! \nPlease email kevin@bizstarts.com to reserve your spot.
URL:https://bizstarts.com/event-local/weekly-work-sessions-2-2019-10-09/
LOCATION:BizStarts\, 1555 N Rivercenter Dr. Suite 210\, Milwaukee\, WI 53212\, Milwaukee\, WI\, 53212\, US
END:VEVENT
BEGIN:VEVENT
DTSTART;TZID=America/Chicago:20191002T113000
DTEND;TZID=America/Chicago:20191002T130000
DTSTAMP:20260425T092154
CREATED:20190811T220348Z
LAST-MODIFIED:20190811T220348Z
UID:5961-1570015800-1570021200@bizstarts.com
SUMMARY:Weekly Work Sessions
DESCRIPTION:Weekly Work Sessions every Wednesday from 11:30AM-1:00PM\nBring your work to BizStarts’ office every Wednesday between 11:30AM-1PM to get your weekly business to-do list done\, set aside time to work on your business\, and network with other entrepreneurs! \nPlease email kevin@bizstarts.com to reserve your spot.
URL:https://bizstarts.com/event-local/weekly-work-sessions-2-2019-10-02/
LOCATION:BizStarts\, 1555 N Rivercenter Dr. Suite 210\, Milwaukee\, WI 53212\, Milwaukee\, WI\, 53212\, US
END:VEVENT
BEGIN:VEVENT
DTSTART;TZID=America/Chicago:20190925T113000
DTEND;TZID=America/Chicago:20190925T130000
DTSTAMP:20260425T092154
CREATED:20190811T220348Z
LAST-MODIFIED:20190811T220348Z
UID:5960-1569411000-1569416400@bizstarts.com
SUMMARY:Weekly Work Sessions
DESCRIPTION:Weekly Work Sessions every Wednesday from 11:30AM-1:00PM\nBring your work to BizStarts’ office every Wednesday between 11:30AM-1PM to get your weekly business to-do list done\, set aside time to work on your business\, and network with other entrepreneurs! \nPlease email kevin@bizstarts.com to reserve your spot.
URL:https://bizstarts.com/event-local/weekly-work-sessions-2-2019-09-25/
LOCATION:BizStarts\, 1555 N Rivercenter Dr. Suite 210\, Milwaukee\, WI 53212\, Milwaukee\, WI\, 53212\, US
END:VEVENT
BEGIN:VEVENT
DTSTART;TZID=America/Chicago:20190918T113000
DTEND;TZID=America/Chicago:20190918T130000
DTSTAMP:20260425T092154
CREATED:20190811T220348Z
LAST-MODIFIED:20190811T220348Z
UID:5959-1568806200-1568811600@bizstarts.com
SUMMARY:Weekly Work Sessions
DESCRIPTION:Weekly Work Sessions every Wednesday from 11:30AM-1:00PM\nBring your work to BizStarts’ office every Wednesday between 11:30AM-1PM to get your weekly business to-do list done\, set aside time to work on your business\, and network with other entrepreneurs! \nPlease email kevin@bizstarts.com to reserve your spot.
URL:https://bizstarts.com/event-local/weekly-work-sessions-2-2019-09-18/
LOCATION:BizStarts\, 1555 N Rivercenter Dr. Suite 210\, Milwaukee\, WI 53212\, Milwaukee\, WI\, 53212\, US
END:VEVENT
BEGIN:VEVENT
DTSTART;TZID=America/Chicago:20190912T153000
DTEND;TZID=America/Chicago:20190912T180000
DTSTAMP:20260425T092154
CREATED:20190816T144748Z
LAST-MODIFIED:20190816T144748Z
UID:5987-1568302200-1568311200@bizstarts.com
SUMMARY:Connections & Cocktails: Social Enterprises & Entrepreneurship
DESCRIPTION:Interested in starting or growing a socially conscious business\, social enterprise\, or nonprofit? Join us for a panel discussion featuring a mix of for-profit and nonprofit experts. \n\nMary founded Vista Global Coaching & Consulting in 2010. Vista Global became Wisconsin’s first certified B Corp in 2012\, partnering with organizations and individuals to make meaningful change in the world. She has worked with more than 200 organizations and individuals in 30 countries across six continents fostering organizational transformation.\nJulie Albrecht is the Director of Marketing and Communications at the Better Business Bureau Serving Wisconsin\, a non-profit organization that aims to help people find businesses and charities they can trust. With a mission of creating an ethical marketplace where buyers and sellers can trust each other\, BBB commends good businesses doing things the right way through their BBB Accredited Business program.\nLinda Wade is the co-founder of Above the Clouds\, a local faith-based\, creative arts 501(c)(3) nonprofit that has served over 1700+ children in the 18 years and the founder of for-profit Moving Forward Milwaukee\, LLC which provides senior\, families and children with onsite movement classes. Moving Forward Milwaukee donates part of their profits to fund Above the Clouds.\n\nThere will be a 30 minute panel discussion and time for Q&A afterwards. It will be a great networking opportunity with entrepreneurs\, professionals\, and business leaders! \nIt will be held at Milwaukee Fortress\, one of Milwaukee’s most prominent historic buildings that has undergone a major restoration. Historic apartments\, retail and office space offer a wide array of amenities to match a multitude of interests. Fortress is where historic character meets modern convenience. \nAgenda: \n3:30PM-4:00PM Check in \n4:00PM-4:10PM Welcome & Introductions \n4:10PM-4:40PM Panel Discussion on Social Businesses and Enterprises \n4:40PM-4:50PM Q&A with Panelists \n5:00PM-6:00PM Cocktails & Networking
URL:https://bizstarts.com/event-local/connections-cocktails-social-enterprises-entrepreneurship/
LOCATION:Milwaukee Fortress\, 1726 North 1st Street\, Milwaukee\, WI\, 53212\, United States
END:VEVENT
BEGIN:VEVENT
DTSTART;TZID=America/Chicago:20190911T113000
DTEND;TZID=America/Chicago:20190911T130000
DTSTAMP:20260425T092154
CREATED:20190811T220348Z
LAST-MODIFIED:20190811T220348Z
UID:5958-1568201400-1568206800@bizstarts.com
SUMMARY:Weekly Work Sessions
DESCRIPTION:Weekly Work Sessions every Wednesday from 11:30AM-1:00PM\nBring your work to BizStarts’ office every Wednesday between 11:30AM-1PM to get your weekly business to-do list done\, set aside time to work on your business\, and network with other entrepreneurs! \nPlease email kevin@bizstarts.com to reserve your spot.
URL:https://bizstarts.com/event-local/weekly-work-sessions-2-2019-09-11/
LOCATION:BizStarts\, 1555 N Rivercenter Dr. Suite 210\, Milwaukee\, WI 53212\, Milwaukee\, WI\, 53212\, US
END:VEVENT
BEGIN:VEVENT
DTSTART;TZID=America/Chicago:20190904T113000
DTEND;TZID=America/Chicago:20190904T130000
DTSTAMP:20260425T092154
CREATED:20190811T220348Z
LAST-MODIFIED:20190811T220348Z
UID:5957-1567596600-1567602000@bizstarts.com
SUMMARY:Weekly Work Sessions
DESCRIPTION:Weekly Work Sessions every Wednesday from 11:30AM-1:00PM\nBring your work to BizStarts’ office every Wednesday between 11:30AM-1PM to get your weekly business to-do list done\, set aside time to work on your business\, and network with other entrepreneurs! \nPlease email kevin@bizstarts.com to reserve your spot.
URL:https://bizstarts.com/event-local/weekly-work-sessions-2-2019-09-04/
LOCATION:BizStarts\, 1555 N Rivercenter Dr. Suite 210\, Milwaukee\, WI 53212\, Milwaukee\, WI\, 53212\, US
END:VEVENT
BEGIN:VEVENT
DTSTART;TZID=America/Chicago:20190828T113000
DTEND;TZID=America/Chicago:20190828T130000
DTSTAMP:20260425T092154
CREATED:20190811T220348Z
LAST-MODIFIED:20190811T220348Z
UID:5956-1566991800-1566997200@bizstarts.com
SUMMARY:Weekly Work Sessions
DESCRIPTION:Weekly Work Sessions every Wednesday from 11:30AM-1:00PM\nBring your work to BizStarts’ office every Wednesday between 11:30AM-1PM to get your weekly business to-do list done\, set aside time to work on your business\, and network with other entrepreneurs! \nPlease email kevin@bizstarts.com to reserve your spot.
URL:https://bizstarts.com/event-local/weekly-work-sessions-2-2019-08-28/
LOCATION:BizStarts\, 1555 N Rivercenter Dr. Suite 210\, Milwaukee\, WI 53212\, Milwaukee\, WI\, 53212\, US
END:VEVENT
BEGIN:VEVENT
DTSTART;TZID=America/Chicago:20190821T113000
DTEND;TZID=America/Chicago:20190821T130000
DTSTAMP:20260425T092154
CREATED:20190811T220348Z
LAST-MODIFIED:20190811T220348Z
UID:5955-1566387000-1566392400@bizstarts.com
SUMMARY:Weekly Work Sessions
DESCRIPTION:Weekly Work Sessions every Wednesday from 11:30AM-1:00PM\nBring your work to BizStarts’ office every Wednesday between 11:30AM-1PM to get your weekly business to-do list done\, set aside time to work on your business\, and network with other entrepreneurs! \nPlease email kevin@bizstarts.com to reserve your spot.
URL:https://bizstarts.com/event-local/weekly-work-sessions-2-2019-08-21/
LOCATION:BizStarts\, 1555 N Rivercenter Dr. Suite 210\, Milwaukee\, WI 53212\, Milwaukee\, WI\, 53212\, US
END:VEVENT
BEGIN:VEVENT
DTSTART;TZID=America/Chicago:20190815T180000
DTEND;TZID=America/Chicago:20190815T203000
DTSTAMP:20260425T092154
CREATED:20190811T221042Z
LAST-MODIFIED:20190811T221042Z
UID:5971-1565892000-1565901000@bizstarts.com
SUMMARY:Launch MKE Business Academy
DESCRIPTION:The Social Development Commission will host the Launch MKE Business Academy. Along with our partner BizStarts\, Launch MKE collaborates and works with participants whom have nailed down their idea\, and are new to entrepreneurship. You attend a 10-week course\, work intimately with BizStarts\, a resource center that helps entrepreneurs launch and grow their businesses through one-on-one coaching\, personalized mentoring and meaningful connections\, and to graduate\, you have to participant in a pitch session. This is all made possible by our gracious host\, the Social Development Commission. \nLaunch MKE Business Academy \nClass begins Thursday\, August 15\, 2019 through Thursday\, October 17\, 2019. \n6:00 pm until 8:30 pm \nClass size is limited to 15 participants.
URL:https://bizstarts.com/event-local/launch-mke-business-academy/
LOCATION:BizStarts\, 1555 N Rivercenter Dr. Suite 210\, Milwaukee\, WI 53212\, Milwaukee\, WI\, 53212\, US
END:VEVENT
BEGIN:VEVENT
DTSTART;TZID=America/Chicago:20190815T080000
DTEND;TZID=America/Chicago:20190815T100000
DTSTAMP:20260425T092154
CREATED:20190811T220634Z
LAST-MODIFIED:20190811T220634Z
UID:5969-1565856000-1565863200@bizstarts.com
SUMMARY:Mentor Forum Alumni Reunion
DESCRIPTION:In lieu of a regular Mentor Forum\, we are inviting past forum participants back to give an update on their business and have another opportunity to get in front of our mentors. We are also inviting a number of new mentors to attend the event so you will likely get to see quite a few new faces and make some connections. If you know anyone interested in being a Mentor\, this is a great opportunity to show them what BizStarts Mentor program is about! \nBecause we hope to have quite a few Alumni\, each entrepreneur (EN) will have 5-10 minutes for their update and allow some Q&A. \nAgenda: \n8:00AM Networking \n8:30AM Mentee updates on their business \n9:15AM-10:00AM Networking
URL:https://bizstarts.com/event-local/mentor-forum-alumni-reunion/
LOCATION:BizStarts\, 1555 N Rivercenter Dr. Suite 210\, Milwaukee\, WI 53212\, Milwaukee\, WI\, 53212\, US
END:VEVENT
BEGIN:VEVENT
DTSTART;TZID=America/Chicago:20190814T113000
DTEND;TZID=America/Chicago:20190814T130000
DTSTAMP:20260425T092154
CREATED:20190811T220348Z
LAST-MODIFIED:20190811T220348Z
UID:5954-1565782200-1565787600@bizstarts.com
SUMMARY:Weekly Work Sessions
DESCRIPTION:Weekly Work Sessions every Wednesday from 11:30AM-1:00PM\nBring your work to BizStarts’ office every Wednesday between 11:30AM-1PM to get your weekly business to-do list done\, set aside time to work on your business\, and network with other entrepreneurs! \nPlease email kevin@bizstarts.com to reserve your spot.
URL:https://bizstarts.com/event-local/weekly-work-sessions-2-2019-08-14/
LOCATION:BizStarts\, 1555 N Rivercenter Dr. Suite 210\, Milwaukee\, WI 53212\, Milwaukee\, WI\, 53212\, US
END:VEVENT
BEGIN:VEVENT
DTSTART;TZID=America/Chicago:20190807T113000
DTEND;TZID=America/Chicago:20190807T130000
DTSTAMP:20260425T092154
CREATED:20190811T220348Z
LAST-MODIFIED:20190811T220348Z
UID:5952-1565177400-1565182800@bizstarts.com
SUMMARY:Weekly Work Sessions
DESCRIPTION:Weekly Work Sessions every Wednesday from 11:30AM-1:00PM\nBring your work to BizStarts’ office every Wednesday between 11:30AM-1PM to get your weekly business to-do list done\, set aside time to work on your business\, and network with other entrepreneurs! \nPlease email kevin@bizstarts.com to reserve your spot.
URL:https://bizstarts.com/event-local/weekly-work-sessions-2/
LOCATION:BizStarts\, 1555 N Rivercenter Dr. Suite 210\, Milwaukee\, WI 53212\, Milwaukee\, WI\, 53212\, US
END:VEVENT
BEGIN:VEVENT
DTSTART;TZID=America/Chicago:20190729T183000
DTEND;TZID=America/Chicago:20190729T200000
DTSTAMP:20260425T092154
CREATED:20190718T145834Z
LAST-MODIFIED:20190718T145834Z
UID:5903-1564425000-1564430400@bizstarts.com
SUMMARY:SDC Hosts the Launch MKE Alumni Panel
DESCRIPTION:Hosted by The Social Development Commission\, Launch MKE will present Business Academy Alumni whom will discuss the pros and pitfalls of starting\, running and growing a business. We will be joined by BizStarts\, our business coaching partner to give insight on their relationship with Launch MKE Business Academy Alumni\, along with their unique position in the entrepreneur community. \nRegister now to attend and listen to an insightful panel give additional information on how the Business Academy can assist you in building a foundation for you business.
URL:https://bizstarts.com/event-local/sdc-hosts-the-launch-mke-alumni-panel/
LOCATION:Social Development Commission\, 1730 West North Avenue\, Milwaukee\, WI 53205\, Milwaukee\, WI\, 53205\, US
END:VEVENT
BEGIN:VEVENT
DTSTART;TZID=America/Chicago:20190725T153000
DTEND;TZID=America/Chicago:20190725T180000
DTSTAMP:20260425T092154
CREATED:20190617T204418Z
LAST-MODIFIED:20190617T204418Z
UID:5856-1564068600-1564077600@bizstarts.com
SUMMARY:Content Creation for Social Media\, Connections\, & Cocktails
DESCRIPTION:Join us for a talk on Content Creation for Social Media at BizStarts Cocktail & Connections! There will be a 30 minute presentation on Content Creation for Social Media and time for Q&A afterwards. It will be a great networking opportunity with entrepreneurs\, professionals\, and business leaders! \nAgenda: \n3:30PM-4:00PM Check in & Networking \n4:00PM-4:10PM Welcome & Introductions \n4:10PM-4:40PM Presentation: Content Creation for Social Media \n4:40PM-4:50PM Q&A: Content Creation for Social Media \n5:00PM-6:00PM Cocktails & Networking
URL:https://bizstarts.com/event-local/content-creation-for-social-media-connections-cocktails/
LOCATION:600 East Cafe\, 600 East Wisconsin Avenue\, Milwaukee\, WI\, 53202\, United States
END:VEVENT
BEGIN:VEVENT
DTSTART;TZID=America/Chicago:20190529T113000
DTEND;TZID=America/Chicago:20190529T130000
DTSTAMP:20260425T092154
CREATED:20190115T041624Z
LAST-MODIFIED:20190115T041624Z
UID:5497-1559129400-1559134800@bizstarts.com
SUMMARY:Weekly Work Sessions
DESCRIPTION:Weekly Work Sessions every Wednesday from 11:30AM-1:00PM starting January 23\, 2019\nJoin us at BizStarts’ office on Wednesday between 11:30AM-1PM to get your weekly business to-do list done and network with other entrepreneurs! We will have a coach present the last Wednesday of every month. \nPlease email sarah@bizstarts.com to reserve your spot.
URL:https://bizstarts.com/event-local/weekly-work-sessions-2019-05-29/
LOCATION:BizStarts\, 1555 N Rivercenter Dr. Suite 210\, Milwaukee\, WI 53212\, Milwaukee\, WI\, 53212\, US
END:VEVENT
BEGIN:VEVENT
DTSTART;TZID=America/Chicago:20190523T080000
DTEND;TZID=America/Chicago:20190523T100000
DTSTAMP:20260425T092154
CREATED:20190405T192812Z
LAST-MODIFIED:20190405T192812Z
UID:5485-1558598400-1558605600@bizstarts.com
SUMMARY:BizStarts Speed Mentoring
DESCRIPTION:What is Speed Mentoring? Entrepreneurs seeking business advice from business leaders on marketing\, legal\, accounting\, scaling and more will have the opportunity to meet BizStarts Mentor Network and be connected with Mentor(s) based on your business challenges and opportunities all in record time!\nEach Speed Mentoring session lasts 8 minutes with a 2-minute ‘changeover’ time between each session. The goal is to fit 6 sessions in an hour.\nEntrepreneurs bring your questions and business cards and make sure to practice your business pitch beforehand! \n\nSchedule:\n8:00am – 8:30am: Networking & Coffee\n8:30am – 8:45am: Welcome & Introductions\n8:45am – 9:45am: Speed Mentoring Sessions\n9:45am – 10:00am: Wrap Up\n\nPlease email sarah@bizstarts.com with any questions.
URL:https://bizstarts.com/event-local/bizstarts-speed-mentoring-2/
LOCATION:BizStarts Office in Schlitz Park\, 1555 North Rivercenter Drive Suite 210\, Milwaukee\, WI 53212\, Milwaukee\, WI\, 53212\, US
ATTACH;FMTTYPE=image/png:https://bizstarts.com/wp-content/uploads/2019/04/5485_image.png
END:VEVENT
BEGIN:VEVENT
DTSTART;TZID=America/Chicago:20190522T113000
DTEND;TZID=America/Chicago:20190522T130000
DTSTAMP:20260425T092154
CREATED:20190115T041624Z
LAST-MODIFIED:20190115T041624Z
UID:5496-1558524600-1558530000@bizstarts.com
SUMMARY:Weekly Work Sessions
DESCRIPTION:Weekly Work Sessions every Wednesday from 11:30AM-1:00PM starting January 23\, 2019\nJoin us at BizStarts’ office on Wednesday between 11:30AM-1PM to get your weekly business to-do list done and network with other entrepreneurs! We will have a coach present the last Wednesday of every month. \nPlease email sarah@bizstarts.com to reserve your spot.
URL:https://bizstarts.com/event-local/weekly-work-sessions-2019-05-22/
LOCATION:BizStarts\, 1555 N Rivercenter Dr. Suite 210\, Milwaukee\, WI 53212\, Milwaukee\, WI\, 53212\, US
END:VEVENT
BEGIN:VEVENT
DTSTART;TZID=America/Chicago:20190520T150000
DTEND;TZID=America/Chicago:20190520T170000
DTSTAMP:20260425T092154
CREATED:20190502T180558Z
LAST-MODIFIED:20190502T180558Z
UID:5791-1558364400-1558371600@bizstarts.com
SUMMARY:St. Ann Center Business Incubator Workshop
DESCRIPTION:If you have a business idea \, join us for a FREE Two-Hour Business Incubator Workshop hosted by St. Ann Center\, with partners LaunchMKE and BizStarts leading you through the process of how to evaluate your business idea. \nAreas discussed during the FREE workshop include identifying customers\, branding and messaging\, distribution\, startup needs and costs.
URL:https://bizstarts.com/event-local/st-ann-center-business-incubator-workshop/
LOCATION:St. Ann Center – Bucyrus Campus\, 2450 W North Ave\, Milwaukee\, WI 53205\, Milwaukee\, WI\, 53205
END:VEVENT
BEGIN:VEVENT
DTSTART;TZID=America/Chicago:20190515T113000
DTEND;TZID=America/Chicago:20190515T130000
DTSTAMP:20260425T092154
CREATED:20190115T041624Z
LAST-MODIFIED:20190115T041624Z
UID:5495-1557919800-1557925200@bizstarts.com
SUMMARY:Weekly Work Sessions
DESCRIPTION:Weekly Work Sessions every Wednesday from 11:30AM-1:00PM starting January 23\, 2019\nJoin us at BizStarts’ office on Wednesday between 11:30AM-1PM to get your weekly business to-do list done and network with other entrepreneurs! We will have a coach present the last Wednesday of every month. \nPlease email sarah@bizstarts.com to reserve your spot.
URL:https://bizstarts.com/event-local/weekly-work-sessions-2019-05-15/
LOCATION:BizStarts\, 1555 N Rivercenter Dr. Suite 210\, Milwaukee\, WI 53212\, Milwaukee\, WI\, 53212\, US
END:VEVENT
BEGIN:VEVENT
DTSTART;TZID=America/Chicago:20190509T183000
DTEND;TZID=America/Chicago:20190509T200000
DTSTAMP:20260425T092154
CREATED:20190429T194711Z
LAST-MODIFIED:20190429T194711Z
UID:5730-1557426600-1557432000@bizstarts.com
SUMMARY:Launch MKE Spring 2019 Graduation
DESCRIPTION:Join us to celebrate Launch MKE’s Spring 2019 cohort on May 9th at Schlitz Park! You will be able to hear each of the graduates pitch their business!
URL:https://bizstarts.com/event-local/launch-mke-spring-2019-graduation-2/
LOCATION:BizStarts\, 1555 N Rivercenter Dr. Suite 210\, Milwaukee\, WI 53212\, Milwaukee\, WI\, 53212\, US
END:VEVENT
BEGIN:VEVENT
DTSTART;TZID=America/Chicago:20190508T113000
DTEND;TZID=America/Chicago:20190508T130000
DTSTAMP:20260425T092154
CREATED:20190115T041624Z
LAST-MODIFIED:20190115T041624Z
UID:5494-1557315000-1557320400@bizstarts.com
SUMMARY:Weekly Work Sessions
DESCRIPTION:Weekly Work Sessions every Wednesday from 11:30AM-1:00PM starting January 23\, 2019\nJoin us at BizStarts’ office on Wednesday between 11:30AM-1PM to get your weekly business to-do list done and network with other entrepreneurs! We will have a coach present the last Wednesday of every month. \nPlease email sarah@bizstarts.com to reserve your spot.
URL:https://bizstarts.com/event-local/weekly-work-sessions-2019-05-08/
LOCATION:BizStarts\, 1555 N Rivercenter Dr. Suite 210\, Milwaukee\, WI 53212\, Milwaukee\, WI\, 53212\, US
END:VEVENT
BEGIN:VEVENT
DTSTART;TZID=America/Chicago:20190501T113000
DTEND;TZID=America/Chicago:20190501T130000
DTSTAMP:20260425T092154
CREATED:20190115T041624Z
LAST-MODIFIED:20190115T041624Z
UID:5493-1556710200-1556715600@bizstarts.com
SUMMARY:Weekly Work Sessions
DESCRIPTION:Weekly Work Sessions every Wednesday from 11:30AM-1:00PM starting January 23\, 2019\nJoin us at BizStarts’ office on Wednesday between 11:30AM-1PM to get your weekly business to-do list done and network with other entrepreneurs! We will have a coach present the last Wednesday of every month. \nPlease email sarah@bizstarts.com to reserve your spot.
URL:https://bizstarts.com/event-local/weekly-work-sessions-2019-05-01/
LOCATION:BizStarts\, 1555 N Rivercenter Dr. Suite 210\, Milwaukee\, WI 53212\, Milwaukee\, WI\, 53212\, US
END:VEVENT
BEGIN:VEVENT
DTSTART;TZID=America/Chicago:20190424T113000
DTEND;TZID=America/Chicago:20190424T130000
DTSTAMP:20260425T092154
CREATED:20190115T041624Z
LAST-MODIFIED:20190405T193857Z
UID:5240-1556105400-1556110800@bizstarts.com
SUMMARY:Weekly Work Sessions
DESCRIPTION:Weekly Work Sessions every Wednesday from 11:30AM-1:00PM starting January 23\, 2019\nJoin us at BizStarts’ office on Wednesday between 11:30AM-1PM to get your weekly business to-do list done and network with other entrepreneurs! We will have a coach present the last Wednesday of every month. \nPlease email sarah@bizstarts.com to reserve your spot.
URL:https://bizstarts.com/event-local/weekly-work-sessions-2019-04-24/
LOCATION:BizStarts\, 1555 N Rivercenter Dr. Suite 210\, Milwaukee\, WI 53212\, Milwaukee\, WI\, 53212\, US
END:VEVENT
END:VCALENDAR