BEGIN:VCALENDAR
VERSION:2.0
PRODID:-//BizStarts - ECPv6.14.2//NONSGML v1.0//EN
CALSCALE:GREGORIAN
METHOD:PUBLISH
X-ORIGINAL-URL:https://bizstarts.com
X-WR-CALDESC:Events for BizStarts
REFRESH-INTERVAL;VALUE=DURATION:PT1H
X-Robots-Tag:noindex
X-PUBLISHED-TTL:PT1H
BEGIN:VTIMEZONE
TZID:America/Chicago
BEGIN:DAYLIGHT
TZOFFSETFROM:-0600
TZOFFSETTO:-0500
TZNAME:CDT
DTSTART:20210314T080000
END:DAYLIGHT
BEGIN:STANDARD
TZOFFSETFROM:-0500
TZOFFSETTO:-0600
TZNAME:CST
DTSTART:20211107T070000
END:STANDARD
END:VTIMEZONE
BEGIN:VEVENT
DTSTART;TZID=America/Chicago:20210309T163000
DTEND;TZID=America/Chicago:20210309T180000
DTSTAMP:20260425T080546
CREATED:20210218T185407Z
LAST-MODIFIED:20210218T185407Z
UID:6886-1615307400-1615312800@bizstarts.com
SUMMARY:Entrepreneurial Mindset and Business Planning Program
DESCRIPTION:Gain the essential tools to help jumpstart your entrepreneurial journey. This 8-week mindset course is designed to test your concept\, practice customer discovery\, and evaluate your overall business readiness.
URL:https://bizstarts.com/event-local/entrepreneurial-mindset-and-business-planning-program/
END:VEVENT
BEGIN:VEVENT
DTSTART;TZID=America/Chicago:20210313T083000
DTEND;TZID=America/Chicago:20210313T093000
DTSTAMP:20260425T080546
CREATED:20210218T184934Z
LAST-MODIFIED:20210218T184934Z
UID:6884-1615624200-1615627800@bizstarts.com
SUMMARY:Law 101 for New Businesses
DESCRIPTION:Entrepreneurs face many challenges in launching a new business—especially during a pandemic! In this workshop\, attorney and law school professor Nathan Hammons will discuss legal essentials for new businesses. Topics will include (1) selecting and forming a business entity; (2) protecting intellectual property; (3) hiring workers; (4) financing considerations; (5) licensing and permitting; and (6) legal tools to reduce risk.
URL:https://bizstarts.com/event-local/law-101-for-new-businesses/
END:VEVENT
END:VCALENDAR