BEGIN:VCALENDAR
VERSION:2.0
PRODID:-//BizStarts - ECPv6.14.2//NONSGML v1.0//EN
CALSCALE:GREGORIAN
METHOD:PUBLISH
X-WR-CALNAME:BizStarts
X-ORIGINAL-URL:https://bizstarts.com
X-WR-CALDESC:Events for BizStarts
REFRESH-INTERVAL;VALUE=DURATION:PT1H
X-Robots-Tag:noindex
X-PUBLISHED-TTL:PT1H
BEGIN:VTIMEZONE
TZID:America/Chicago
BEGIN:DAYLIGHT
TZOFFSETFROM:-0600
TZOFFSETTO:-0500
TZNAME:CDT
DTSTART:20210314T080000
END:DAYLIGHT
BEGIN:STANDARD
TZOFFSETFROM:-0500
TZOFFSETTO:-0600
TZNAME:CST
DTSTART:20211107T070000
END:STANDARD
END:VTIMEZONE
BEGIN:VEVENT
DTSTART;TZID=America/Chicago:20210902T160000
DTEND;TZID=America/Chicago:20210902T170000
DTSTAMP:20260424T223226
CREATED:20210713T154724Z
LAST-MODIFIED:20210713T154724Z
UID:6920-1630598400-1630602000@bizstarts.com
SUMMARY:Service Still Speaks: A Constant in a Changing World
DESCRIPTION:Discover how to lean on delivering the Customer Experience (CX) as part of your personal brand and business priorities in 3 key ways: \n\nEnrich your life with the 7 elements of the Customer Experience (CX) both personally & professionally. (Empathy\, Delight\, Initiative …)\nFamiliarize yourself with today’s service language + communication best practices.\nDemystify the service stories within you\, to communicate with future job leads + clients.
URL:https://bizstarts.com/event-local/service-still-speaks-a-constant-in-a-changing-world/
END:VEVENT
END:VCALENDAR