BEGIN:VCALENDAR
VERSION:2.0
PRODID:-//BizStarts - ECPv6.14.2//NONSGML v1.0//EN
CALSCALE:GREGORIAN
METHOD:PUBLISH
X-WR-CALNAME:BizStarts
X-ORIGINAL-URL:https://bizstarts.com
X-WR-CALDESC:Events for BizStarts
REFRESH-INTERVAL;VALUE=DURATION:PT1H
X-Robots-Tag:noindex
X-PUBLISHED-TTL:PT1H
BEGIN:VTIMEZONE
TZID:America/Chicago
BEGIN:DAYLIGHT
TZOFFSETFROM:-0600
TZOFFSETTO:-0500
TZNAME:CDT
DTSTART:20210314T080000
END:DAYLIGHT
BEGIN:STANDARD
TZOFFSETFROM:-0500
TZOFFSETTO:-0600
TZNAME:CST
DTSTART:20211107T070000
END:STANDARD
END:VTIMEZONE
BEGIN:VEVENT
DTSTART;TZID=America/Chicago:20211005T160000
DTEND;TZID=America/Chicago:20211005T170000
DTSTAMP:20260424T205507
CREATED:20210930T163901Z
LAST-MODIFIED:20210930T163901Z
UID:6968-1633449600-1633453200@bizstarts.com
SUMMARY:How to Build and Leverage a Powerful Network with Cameka Smith
DESCRIPTION:
URL:https://bizstarts.com/event-local/how-to-build-and-leverage-a-powerful-network-with-cameka-smith/
LOCATION:Zoom
END:VEVENT
END:VCALENDAR