BEGIN:VCALENDAR
VERSION:2.0
PRODID:-//BizStarts - ECPv6.14.2//NONSGML v1.0//EN
CALSCALE:GREGORIAN
METHOD:PUBLISH
X-WR-CALNAME:BizStarts
X-ORIGINAL-URL:https://bizstarts.com
X-WR-CALDESC:Events for BizStarts
REFRESH-INTERVAL;VALUE=DURATION:PT1H
X-Robots-Tag:noindex
X-PUBLISHED-TTL:PT1H
BEGIN:VTIMEZONE
TZID:America/Chicago
BEGIN:DAYLIGHT
TZOFFSETFROM:-0600
TZOFFSETTO:-0500
TZNAME:CDT
DTSTART:20220313T080000
END:DAYLIGHT
BEGIN:STANDARD
TZOFFSETFROM:-0500
TZOFFSETTO:-0600
TZNAME:CST
DTSTART:20221106T070000
END:STANDARD
END:VTIMEZONE
BEGIN:VEVENT
DTSTART;TZID=America/Chicago:20220402T090000
DTEND;TZID=America/Chicago:20220402T103000
DTSTAMP:20260424T113842
CREATED:20220315T153920Z
LAST-MODIFIED:20220315T153920Z
UID:7222-1648890000-1648895400@bizstarts.com
SUMMARY:First Saturdays with Lorry Rifkin and Ruben Gaona
DESCRIPTION:
URL:https://bizstarts.com/event-local/first-saturdays-with-lorry-rifkin-and-ruben-gaona/
LOCATION:St. Ann Center – Bucyrus Campus\, 2450 W North Ave\, Milwaukee\, WI 53205\, Milwaukee\, WI\, 53205
END:VEVENT
BEGIN:VEVENT
DTSTART;VALUE=DATE:20220409
DTEND;VALUE=DATE:20220410
DTSTAMP:20260424T113842
CREATED:20220117T175833Z
LAST-MODIFIED:20220215T183615Z
UID:7062-1649462400-1649548799@bizstarts.com
SUMMARY:Week 1 BizStarts Institute
DESCRIPTION:
URL:https://bizstarts.com/event-local/week-1-institute/
END:VEVENT
BEGIN:VEVENT
DTSTART;VALUE=DATE:20220416
DTEND;VALUE=DATE:20220417
DTSTAMP:20260424T113842
CREATED:20220117T175931Z
LAST-MODIFIED:20220215T183722Z
UID:7064-1650067200-1650153599@bizstarts.com
SUMMARY:Week 2 BizStarts Institute
DESCRIPTION:
URL:https://bizstarts.com/event-local/week-2-institute/
END:VEVENT
BEGIN:VEVENT
DTSTART;VALUE=DATE:20220423
DTEND;VALUE=DATE:20220424
DTSTAMP:20260424T113842
CREATED:20220117T180023Z
LAST-MODIFIED:20220215T183817Z
UID:7066-1650672000-1650758399@bizstarts.com
SUMMARY:Week 3 BizStarts Institute
DESCRIPTION:
URL:https://bizstarts.com/event-local/week-3-institute/
END:VEVENT
BEGIN:VEVENT
DTSTART;VALUE=DATE:20220430
DTEND;VALUE=DATE:20220501
DTSTAMP:20260424T113842
CREATED:20220117T180111Z
LAST-MODIFIED:20220215T183906Z
UID:7068-1651276800-1651363199@bizstarts.com
SUMMARY:Week 4 BizStarts Institute
DESCRIPTION:
URL:https://bizstarts.com/event-local/week-4-institute/
END:VEVENT
END:VCALENDAR