BEGIN:VCALENDAR
VERSION:2.0
PRODID:-//BizStarts - ECPv6.14.2//NONSGML v1.0//EN
CALSCALE:GREGORIAN
METHOD:PUBLISH
X-WR-CALNAME:BizStarts
X-ORIGINAL-URL:https://bizstarts.com
X-WR-CALDESC:Events for BizStarts
REFRESH-INTERVAL;VALUE=DURATION:PT1H
X-Robots-Tag:noindex
X-PUBLISHED-TTL:PT1H
BEGIN:VTIMEZONE
TZID:America/Chicago
BEGIN:DAYLIGHT
TZOFFSETFROM:-0600
TZOFFSETTO:-0500
TZNAME:CDT
DTSTART:20230312T080000
END:DAYLIGHT
BEGIN:STANDARD
TZOFFSETFROM:-0500
TZOFFSETTO:-0600
TZNAME:CST
DTSTART:20231105T070000
END:STANDARD
END:VTIMEZONE
BEGIN:VEVENT
DTSTART;TZID=America/Chicago:20230610T090000
DTEND;TZID=America/Chicago:20230610T120000
DTSTAMP:20260419T165503
CREATED:20230222T214348Z
LAST-MODIFIED:20230222T220259Z
UID:7931-1686387600-1686398400@bizstarts.com
SUMMARY:Squad Goals
DESCRIPTION:*Date Tentative\n(Due to popular demand from entrepreneurs surveyed) Taught by Kennita Hickman\, this workshop will cover the basics of networking including determining who is in your network\, how to expand your network online and offline\, and how to make your network work for you.\nLocation: TBD
URL:https://bizstarts.com/event-local/squad-goals/
END:VEVENT
END:VCALENDAR